Workbook
Name DATA1: #REF!
Name DATA10: #REF!
Name DATA100: #REF!
Name DATA101: #REF!
Name DATA102: #REF!
Name DATA103: #REF!
Name DATA104: #REF!
Name DATA105: #REF!
Name DATA106: #REF!
Name DATA107: #REF!
Name DATA11: #REF!
Name DATA12: #REF!
Name DATA13: #REF!
Name DATA14: #REF!
Name DATA15: #REF!
Name DATA16: #REF!
Name DATA17: #REF!
Name DATA18: #REF!
Name DATA19: #REF!
Name DATA2: #REF!
Name DATA20: #REF!
Name DATA21: #REF!
Name DATA22: #REF!
Name DATA23: #REF!
Name DATA24: #REF!
Name DATA25: #REF!
Name DATA26: #REF!
Name DATA27: #REF!
Name DATA28: #REF!
Name DATA29: #REF!
Name DATA3: #REF!
Name DATA30: #REF!
Name DATA31: #REF!
Name DATA32: #REF!
Name DATA33: #REF!
Name DATA34: #REF!
Name DATA35: #REF!
Name DATA36: #REF!
Name DATA37: #REF!
Name DATA38: #REF!
Name DATA39: #REF!
Name DATA4: #REF!
Name DATA40: #REF!
Name DATA41: #REF!
Name DATA42: #REF!
Name DATA43: #REF!
Name DATA44: #REF!
Name DATA45: #REF!
Name DATA46: #REF!
Name DATA47: #REF!
Name DATA48: #REF!
Name DATA49: #REF!
Name DATA5: #REF!
Name DATA50: #REF!
Name DATA51: #REF!
Name DATA52: #REF!
Name DATA53: #REF!
Name DATA54: #REF!
Name DATA55: #REF!
Name DATA56: #REF!

Sheet Gen. Business Posting Group
B1: มีผลต่อการลงบัญชีรายได้ ซื้อ หรือค่าใช้จ่าย
A2: 10 Digit | B2: 100 Digit
A3: Code | B3: Description
A4: DOMESTIC : สำหรับรายการซื้อ – ขายในประเทศ | B4: สำหรับรายการซื้อ – ขายในประเทศ
A5: DOMESTIC-RPT : สำหรับรายการซื้อ – ขายระหว่างกันในประเทศ | B5: สำหรับรายการซื้อ – ขายระหว่างกันในประเทศ
A6: OVERSEA : สำหรับรายการซื้อ – ขายต่างประเทศ | B6: สำหรับรายการซื้อ – ขายต่างประเทศ

Sheet Vendor Posting Group
D1: Link Template 02 - Template Chart of Accounts Column A
A2: 20 Digit | B2: 100 Digit | D2: บัญชีเจ้าหนี้
A3: Code | B3: Description | C3: Remark | D3: Payables Account | E3: Column1
A4: V-TRADE-UN : กลุ่มเจ้าหนี้ประเภทเทรดดิ้งที่ไม่เกี่ยวข้อง | B4: Vendor Trading - Unrelated Party | C4: กลุ่มเจ้าหนี้ประเภทเทรดดิ้งที่ไม่เกี่ยวข้อง | D4: 2400101010 | E4: Trade Payables
A5: V-TRADE-RPT : กลุ่มเจ้าหนี้ประเภทเทรดดิ้งบริษัทในเครือ | B5: Vendor Trading - Related Party | C5: กลุ่มเจ้าหนี้ประเภทเทรดดิ้งบริษัทในเครือ | D5: 2400102010 | E5: Trade Payables - Related Parties
A6: V-OTHER-UN : กลุ่มเจ้าหนี้ประเภทอื่นๆ ที่ไม่เกี่ยวข้อง | B6: Vendor Other - Unrelated Party | C6: กลุ่มเจ้าหนี้ประเภทอื่นๆ ที่ไม่เกี่ยวข้อง | D6: 2400103010 | E6: Other Payables
A7: V-OTHER-RPT : กลุ่มเจ้าหนี้ประเภทอื่นๆ ที่เป็นบริษัทในเครือ | B7: Vendor Other - Related Party | C7: กลุ่มเจ้าหนี้ประเภทอื่นๆ ที่เป็นบริษัทในเครือ | D7: 2400104010 | E7: Other Payables - Related Parties
A8: V-STLOAN-UN : กลุ่มเจ้าหนี้ประเภทเงินกู้ยืมระยะสั้นที่ไม่เกี่ยวข้อง | B8: Vendor Short Term Loan Payable | C8: กลุ่มเจ้าหนี้ประเภทเงินกู้ยืมระยะสั้นที่ไม่เกี่ยวข้อง | D8: 2100201010 | E8: Short Term Loan Payable
A9: V-STLOAN-RPT : กลุ่มเจ้าหนี้ประเภทเงินกู้ยืมระยะสั้นที่เป็นบริษัทในเครือ | B9: Vendor Short Term Loan Payable - Related Parties | C9: กลุ่มเจ้าหนี้ประเภทเงินกู้ยืมระยะสั้นที่เป็นบริษัทในเครือ | D9: 2100202010 | E9: Short Term Loan Payable - Related Parties
A10: V-LTLOAN-UN : กลุ่มเจ้าหนี้ประเภทเงินกู้ยืมระยะยาวที่ไม่เกี่ยวข้อง | B10: Vendor Long Term Loan Payables | C10: กลุ่มเจ้าหนี้ประเภทเงินกู้ยืมระยะยาวที่ไม่เกี่ยวข้อง | D10: 2600201010 | E10: Long Term Loan Payables
A11: V-LTLOAN-RPT : กลุ่มเจ้าหนี้ประเภทเงินกู้ยืมระยะยาวที่เป็นบริษัทในเครือ | B11: Vendor Long Term Loan Payables from Related Parties | C11: กลุ่มเจ้าหนี้ประเภทเงินกู้ยืมระยะยาวที่เป็นบริษัทในเครือ | D11: 2600202010 | E11: Long Term Loan Payables from Related Parties
A12: V-INT-UN : กลุ่มเจ้าหนี้ประเภทดอกเบี้ยที่ไม่เกี่ยวข้อง | B12: Vendor Interest Payable | C12: กลุ่มเจ้าหนี้ประเภทดอกเบี้ยที่ไม่เกี่ยวข้อง | D12: 2400117010 | E12: Interest Payable
A13: V-INT-RPT : กลุ่มเจ้าหนี้ประเภทดอกเบี้ยที่เป็นบริษัทในเครือ | B13: Vendor Interest Payable - Related Parties | C13: กลุ่มเจ้าหนี้ประเภทดอกเบี้ยที่เป็นบริษัทในเครือ | D13: 2400118010 | E13: Interest Payable - Related Parties

Sheet VAT Business Posting Group
A1: 20 Digit | B1: ประเภทสถานที่เกิดภาษี
A2: Code | B2: Description
A3: 00000–DOMESTIC : สำนักงานใหญ่ ซื้อ - ขายในประเทศ | B3: สำนักงานใหญ่ ซื้อ - ขายในประเทศ
A4: 00001–DOMESTIC : สาขา 00001 ซื้อ - ขายในประเทศ | B4: สาขา 00001 ซื้อ - ขายในประเทศ
A5: 00002–DOMESTIC : สาขา 00002 ซื้อ - ขายในประเทศ | B5: สาขา 00002 ซื้อ - ขายในประเทศ

Sheet TH Company Branch No.
A1: Code | B1: Description
A2: 00000 | B2: สำนักงานใหญ่
A3: 00001 | B3: สาขาที่ 1
A4: 00002 | B4: สาขาที่ 2

Sheet WHT
A1: Code | B1: Description
A2: WHT53 | B2: หัก ณ ที่จ่ายนิติบุคคล
A3: WHT3 | B3: หัก ณ ที่จ่ายบุคคลธรรมดา
A4: WHT54 | B4: หัก ณ ที่จ่ายต่างประเทศ
A5: NOWHT | B5: ไม่มีภาษีหัก ณ ที่จ่าย
A6: WHT1 | B6: PND1
A7: WHT2 | B7: PND2

Sheet Company List
A1: Code | B1: Description
A2: F010 : FSF (มูลนิธิฟ้าสั่ง) | B2: มูลนิธิฟ้าสั่ง
A3: F020 : FSH (ศูนย์ไตเทียมฟ้าสั่ง) | B3: บริษัท ศูนย์ไตเทียมฟ้าสั่ง จำกัด
A4: O010 : KIN | B4: บริษัท คินส์ เวนเจอร์ส จำกัด
A5: O020 : Gaik | B5: บริษัท เก๊ก จำกัด
A6: O030 : KFV | B6: บริษัท คิง ฟอร์จูน เวนเจอร์ จำกัด
A7: O040 : PCSC | B7: บริษัท เพียว ซิตี้ โซลูชั่นส์ จำกัด
A8: O050 : CB | B8: บริษัท เดอะ แชมเบอร์เลน จำกัด
A9: O060 : ECS | B9: บริษัท อีโค-ไซเคิล โซลูชั่นส์ จำกัด
A10: O070 : EV | B10: บริษัท อีเวนโต้ มอนโด้ จำกัด
A11: O080 : MM | B11: บริษัท โมเมนโต้ จำกัด
A12: P010 : UTAL1 | B12: บริษัท ยูทีเอ แลนด์ 1 จำกัด
... A29: S050 : F5 | B29: บริษัท ฟอร์เมชั่น ไฟฟ์ จำกัด

Sheet Payment Terms Code
A1: Payment Method Code
A2: CASH
A3: 7D
A4: 15D
A5: 30D
A6: 45D
A7: 60D
A8: 90D

Sheet Payment Method Code
A1: Payment Method Code
A2: CASH
A3: CHEQUE
A4: TRANSFER

Sheet Request for
A1: Request
A3: Create
A4: Change
A5: Block
A6: Unblock

Sheet BP Type
A1: BP Type
A3: Z101 Private & State Enterprise
A4: Z102 Government
A5: Z201 Foreign
A6: Z301 Employee
A7: Z801 Ship to Party
A8: Z901 One Time

Sheet BP Group
A1: BP Group
A3: Z001 Business Partner - Domestic
A4: Z002 Business Partner - Foreign
A5: Z003 Business Partner - Employee
A6: Z008 Business Partner - Ship to Party
A7: Z009 Business Partner - One Time

Sheet BP Request Form (SAP)
I1: Link Sheet PostCode
B2: Code จาก SAP (สาขาจะมี - ต่อท้าย) | C2: รหัสลูกค้าในระบบเดิมที่ต้องการเก็บเป็น Ref. ในระบบ BC | D2: ชื่อเจ้าหนี้ | E2: กรณีที่คอลัมน์ C ไม่พอสามารถระบุชื่อเพิ่มเติมได้ | F2: รหัสสาขา กรณีเป็นสำนักงานใหญ่ให้ใส่เป็น 00000 (ของ Vendor) | G2: ที่อยู่ เช่น อาคาร ตึก ห้องเลขที่ | H2: ที่อยู่ เช่น แขวง / ตำบล | I2: ที่อยู่ เช่น เขต อำเภอ | J2: จังหวัด | K2: รหัสไปรษณีย์ | L2: ประเทศ | M2: Default สกุลเงิน กรณีที่เป็นไทยบาทไม่ต้องระบุ | N2: เงื่อนไขการจ่ายชำระที่มีผลต่อการคำนวณวันที่ครบกำหนดชำระ เช่น CASH, 7D,15D,30D, 45D, 60D, 90D | O2: วิธีการจ่าย CASH : เงินสด TRANSFER : โอน CHEQUE : เช็ค | P2: เลขที่ผู้เสียภาษี | Q2: กลุ่มซื้อสินค้า / ค่าใช้จ่าย Link Template 03-Template Posting Group and Posting Setup Sheet Gen. Bus. Posting Group Column A | R2: กลุ่มเจ้าหนี้ Link Template 03-Template Posting Group and Posting Setup Sheet Vendor Posting Group Column A | S2: ประเภทการเกิดภาษี Link Template 03-Template Posting Group and Posting Setup Sheet VAT Bus. Posting Group Column A (ของบริษัทเรา) | T2: Link Sheet VendorTemp Column B | U2: Default รหัสสาขาบริษัท BTS ในการทำรายการ เช่น 00000 หรือ 00001 (ของบริษัทเรา) | V2: ประเภทหัก ณ ที่จ่าย WHT3 บุคคลธรรมดา WHT53 นิติบุคคล WHT54 ต่างประเทศ | W2: ชื่อผู้ติดต่อ | X2: เบอร์โทรศัพท์ ไม่สามารถระบุเป็นตัวหนังสือได้ | Y2: เบอร์โทรศัพท์ ไม่สามารถระบุเป็นตัวหนังสือได้ | Z2: เบอร์แฟ็กซ์ ไม่สามารถระบุเป็นตัวหนังสือได้ | AA2: พนักงานจัดซื้อ Link Template 02-SD-Master Dimension Sheet Dimension Value Column B | AB2: อีเมล
B3: 20 Digit | C3: 20 Digit | D3: 100 Digit | E3: 50 Digit | F3: 100 Digit | G3: 100 Digit | H3: 50 Digit | I3: 100 Digit | J3: 100 Digit | K3: 100 Digit | L3: 100 Digit | P3: 50 Digit | W3: 100 Digit | X3: 30 Digit | Y3: 30 Digit | Z3: 30 Digit | AB3: 100 Digit
A4: Company | B4: No. | C4: OldCode | D4: Name | E4: Name 2 | F4: Branch No. | G4: Address | H4: Address 2 | I4: City | J4: County | K4: Post Code | L4: Country/Region Code | M4: Currency Code | N4: Payment Terms Code | O4: Payment Method Code | P4: VAT Registration No. | Q4: Gen. Bus. Posting Group | R4: Vendor Posting Group | S4: VAT Bus. Posting Group | T4: (TH)Customer/Vendor No. | U4: (TH)Company Branch No. | V4: (TH)WHT Business Posting Group | W4: Contact | X4: Phone No. | Y4: Mobile Phone No. | Z4: Fax No. | AA4: Purchaser Code | AB4: Email
A5: UTAL6 | B5: 10000347 | C5: F0011 | D5: บริษัท ฟูจิฟิล์ม บิสซิเนส อินโนเวชั่น (ประเทศไทย) จำกัด | F5: 00000 | G5: 123 อาคารซันทาวเวอร์ส เอ ชั้นที่ 23-26 ถ.วิภาวดีรังสิต | H5: แขวงจอมพล | I5: เขตจตุจักร | J5: กรุงเทพมหานคร | K5: 10900 | L5: TH | N5: 30D | O5: Cheque | P5: 0105521009891 | Q5: DOMESTIC | R5: V-TRADE-UN | S5: 00000-DOMESTIC | T5: =B5 -> 10000347 | U5: 00000 | V5: WHT53 | X5: 02-660-8000 | Z5: 02-617-6748-9
A6: UTAL6 | B6: 10000361 | D6: บริษัท ดีเคเอสเอช (ประเทศไทย) จำกัด | F6: 00000 | G6: 2533 ถนนสุขุมวิท | H6: แขวงบางจาก | I6: เขตพระโขนง | J6: กรุงเทพมหานคร | K6: 10260 | L6: TH | N6: 30D | O6: Cheque | P6: 0105523002118 | Q6: DOMESTIC | R6: V-TRADE-UN | S6: 00000-DOMESTIC | T6: 10000361 | U6: 00000 | V6: WHT53
A7: UTAL6 | B7: 10001160 | D7: บริษัท ไปรษณีย์ไทย จำกัด | F7: 00000 | G7: 111 ถนนแจ้งวัฒนะ | H7: แขวงทุ่งสองห้อง | I7: เขตหลักสี่ | J7: กรุงเทพมหานคร | K7: 10210 | L7: TH | N7: 30D | O7: Cheque | P7: 0105546095724 | Q7: DOMESTIC | R7: V-OTHER-UN | S7: 00000-DOMESTIC | T7: 10001160 | U7: 00000 | V7: WHT53

Sheet Instruction
A1: Instruction
B2: วัตถุประสงค์ (Objectives)
B3: 1. เพื่อกำหนดแนวทางในการขอสร้าง หรือแก้ไขข้อมูล Vendor ให้เป็นมาตรฐานเดียวกัน ซึ่งข้อมูลจะดำเนินการสร้างบน SAP ก่อน แล้วจึงดำเนินการต่อบนระบบ Microsoft Dynamics 365BC ในลำดับถัดไป
B4: 2. เพื่อให้ข้อมูล Vendor บนระบบ Microsoft Dynamics 365 BC มีความถูกต้องและครบถ้วน
B5: 3. เพื่อป้องกันการสร้างข้อมูลซ้ำซ้อนและลดข้อผิดพลาดในการบันทึกข้อมูล
B6: 4. เพื่อกำหนดหน้าที่และความรับผิดชอบของผู้ขอ ผู้อนุมัติ และผู้ดำเนินการได้อย่างชัดเจน
B7: 5. เพื่อให้การดำเนินการได้รับการอนุมัติอย่างเหมาะสม และสามารถตรวจสอบย้อนหลังได้
B9: คำแนะนำในการกรอกและส่งแบบฟอร์ม (Instructions)
B10: สำหรับผู้ใช้งาน กรอกข้อมูลในชีท "Vendor"
B11: 1. กรอกข้อมูล Vendor เฉพาะ ชีทสีเขียว "Vendor" เท่านั้น โดยสามารถดูตัวอย่างการกรอกข้อมูลในชีทสีส้ม "ตัวอย่างการกรอกข้อมูล Vendor" (ชีทสีเทา สำหรับ BA ผู้ใช้งานไม่ต้องทำการกรอกข้อมูล)
B12: 2. กรอกข้อมูลที่จำเป็นในหัวข้อ "สีเหลือง" ให้ครบถ้วน
B13: 3. กรณีขอสร้าง Vendor ประเภทพนักงาน กรุณาระบุ Employee ID และ Employee’s Company Name ในหัวข้อ "สีฟ้า"
B14: 4. แนบเอกสารหลักฐานประกอบเพื่อใช้ในการยืนยันข้อมูล เช่น ภ.พ. 20, หนังสือรับรองบริษัท และเอกสารอื่นที่เกี่ยวข้อง
... B27: * กรณีที่ระบุ Posting Group เป็น RPT ทางทีม BA จะดำเนินการสร้าง Vendor Dimension ประกอบด้วยทุกครั้ง
B29: สี | D29: คำอธิบาย
C30: สีเหลือง | D30: จำเป็นต้องกรอกข้อมูล
C31: สีเทา | D31: หากไม่มีข้อมูล สามารถเว้นว่างได้
C32: สีฟ้า | D32: สำหรับกรอกข้อมูลที่เกี่ยวข้องกับพนักงาน
C33: สีส้ม | D33: สำหรับผู้ใช้งานระบุ Vendor No. ที่ต้องการแก้ไข (กรณีขอสร้างใหม่ ให้เว้นว่าง) และสำหรับ BA ระบุ BP Code ที่สร้างใหม่
C34: สีชมพู | D34: สำหรับ BA กรอกข้อมูล

Sheet Vendor
A1: หมายเหตุ สีเหลือง : Require Field | K1: Link Sheet PostCode
D2: Code จาก SAP (สาขาจะมี - ต่อท้าย) | E2: กรณีเป็นพนักงาน โปรดระบุรหัสของพนักงานและชื่อ Company ของพนักงาน | G2: ชื่อเจ้าหนี้ | H2: รหัสสาขา กรณีเป็นสำนักงานใหญ่ให้ใส่เป็น 00000 (ของ Vendor) | I2: ที่อยู่ เช่น อาคาร ตึก ห้องเลขที่ | J2: ที่อยู่ เช่น แขวง …... ตำบล …... | K2: ที่อยู่ เช่น เขต ….. อำเภอ ….. | L2: จังหวัด | M2: รหัสไปรษณีย์ | N2: ประเทศ | O2: เลขที่ผู้เสียภาษี | P2: กลุ่มซื้อสินค้า / ค่าใช้จ่าย Link Template 03-Template Posting Group and Posting Setup Sheet Gen. Bus. Posting Group Column A | Q2: ประเภทการเกิดภาษี Link Template 03-Template Posting Group and Posting Setup Sheet VAT Bus. Posting Group Column A (ของบริษัทเรา) | R2: กลุ่มเจ้าหนี้ Link Template 03-Template Posting Group and Posting Setup Sheet Vendor Posting Group Column A | S2: เงื่อนไขการจ่ายชำระที่มีผลต่อการคำนวณวันที่ครบกำหนดชำระ เช่น CASH, 7D,15D,30D, 45D, 60D, 90D | T2: วิธีการจ่าย CASH : เงินสด TRANSFER : โอน CHEQUE : เช็ค | U2: Default รหัสสาขาบริษัท BTS ในการทำรายการ เช่น 00000 หรือ 00001 (ของบริษัทเรา) | V2: ประเภทหัก ณ ที่จ่าย WHT3 บุคคลธรรมดา WHT53 นิติบุคคล WHT54 ต่างประเทศ NOWHT ไม่มีภาษีหัก ณ ที่จ่าย WHT01 ภ.ง.ด. 1 WHT02 ภ.ง.ด. 2 | W2: Default สกุลเงิน กรณีที่เป็นไทยบาทไม่ต้องระบุ | X2: ชื่อผู้ติดต่อ | Y2: เบอร์โทรศัพท์ ไม่สามารถระบุเป็นตัวหนังสือได้ | Z2: เบอร์โทรศัพท์ ไม่สามารถระบุเป็นตัวหนังสือได้ | AA2: เบอร์แฟ็กซ์ ไม่สามารถระบุเป็นตัวหนังสือได้ | AB2: อีเมล | AC2: หมายเหตุเพิ่มเติมโปรดระบุ
D3: 20 Digit | G3: 100 Digit | H3: 100 Digit | I3: 100 Digit | J3: 50 Digit | K3: 100 Digit | L3: 100 Digit | M3: 100 Digit | N3: 100 Digit | O3: 50 Digit | X3: 100 Digit | Y3: 30 Digit | Z3: 30 Digit | AA3: 30 Digit | AB3: 100 Digit
A4: No. | B4: Company | C4: Request for | D4: Vendor No. | E4: Employee ID | F4: Employee’s Company Name | G4: Name | H4: Branch No. | I4: Address | J4: Address 2 | K4: City | L4: County | M4: Post Code | N4: Country/Region Code | O4: VAT Registration No. | P4: Gen. Bus. Posting Group | Q4: VAT Bus. Posting Group | R4: Vendor Posting Group | S4: Payment Terms Code | T4: Payment Method Code | U4: (TH)Company Branch No. | V4: (TH)WHT Business Posting Group | W4: Currency Code | X4: Contact | Y4: Phone No. | Z4: Mobile Phone No. | AA4: Fax No. | AB4: Email | AC4: หมายเหตุ
A5: 1
A6: 2
A7: 3
A8: 4
A9: 5
A10: *ห้ามทำการลบบรรทัดด้านบน และด้านล่าง เด็ดขาด เนื่องจากมีการผูกสูตรไว้ | J10: *(TH) โปรดระบุคำว่า "แขวง" หรือ "ตำบล" นำหน้าชื่อพื้นที่ตามที่อยู่ | K10: *(TH) โปรดระบุคำว่า "เขต" หรือ "อำเภอ" นำหน้าชื่อพื้นที่ตามที่อยู่
A11: หากทำรายการเกิน 5 รายการ โปรดเริ่มรายการที่ 6 ในไฟล์ใหม่ | J11: *(EN) โปรดระบุชื่อแขวง/ตำบล เป็นภาษาอังกฤษ หรือทับศัพท์ โดยไม่ต้องใส่คำว่า "Khwaeng", "Tambon" หรือ "Subdistrict" | K11: *(EN) โปรดระบุชื่อเขต/อำเภอ เป็นภาษาอังกฤษ หรือทับศัพท์ โดยไม่ต้องใส่คำว่า "Khet", "Amphoe" หรือ "District"
A14: Requested by
A15: Requested Date
A16: Department
A17: Position
A18: Email
A19: Reason for request | E19: * กรณีที่มีการเปลี่ยนชื่อ และที่อยู่ รบกวนแจ้งวันที่มีผลบังคับใช้
A20: Approved by
A21: Approved Date
A22: Entered by | E22: *สำหรับ BA กรอกข้อมูล
A23: Entered Date | E23: *สำหรับ BA กรอกข้อมูล

Sheet ตัวอย่างการกรอกข้อมูล Vendor
A1: หมายเหตุ สีเหลือง : Require Field | K1: Link Sheet PostCode
D2: Code จาก SAP (สาขาจะมี - ต่อท้าย) | E2: กรณีเป็นพนักงาน โปรดระบุรหัสของพนักงานและชื่อ Company ของพนักงาน | G2: ชื่อเจ้าหนี้ | H2: รหัสสาขา กรณีเป็นสำนักงานใหญ่ให้ใส่เป็น 00000 (ของ Vendor) | I2: ที่อยู่ เช่น อาคาร ตึก ห้องเลขที่ | J2: ที่อยู่ เช่น แขวง …... ตำบล …… | K2: ที่อยู่ เช่น เขต ….. อำเภอ ….. | L2: จังหวัด | M2: รหัสไปรษณีย์ | N2: ประเทศ | O2: เลขที่ผู้เสียภาษี | P2: กลุ่มซื้อสินค้า / ค่าใช้จ่าย Link Template 03-Template Posting Group and Posting Setup Sheet Gen. Bus. Posting Group Column A | Q2: ประเภทการเกิดภาษี Link Template 03-Template Posting Group and Posting Setup Sheet VAT Bus. Posting Group Column A (ของบริษัทเรา) | R2: กลุ่มเจ้าหนี้ Link Template 03-Template Posting Group and Posting Setup Sheet Vendor Posting Group Column A | S2: เงื่อนไขการจ่ายชำระที่มีผลต่อการคำนวณวันที่ครบกำหนดชำระ เช่น CASH, 7D,15D,30D, 45D, 60D, 90D | T2: วิธีการจ่าย CASH : เงินสด TRANSFER : โอน CHEQUE : เช็ค | U2: Default รหัสสาขาบริษัท BTS ในการทำรายการ เช่น 00000 หรือ 00001 (ของบริษัทเรา) | V2: ประเภทหัก ณ ที่จ่าย WHT3 บุคคลธรรมดา WHT53 นิติบุคคล WHT54 ต่างประเทศ NOWHT ไม่มีภาษีหัก ณ ที่จ่าย WHT01 ภ.ง.ด. 1 WHT02 ภ.ง.ด. 2 | W2: Default สกุลเงิน กรณีที่เป็นไทยบาทไม่ต้องระบุ | X2: ชื่อผู้ติดต่อ | Y2: เบอร์โทรศัพท์ ไม่สามารถระบุเป็นตัวหนังสือได้ | Z2: เบอร์โทรศัพท์ ไม่สามารถระบุเป็นตัวหนังสือได้ | AA2: เบอร์แฟ็กซ์ ไม่สามารถระบุเป็นตัวหนังสือได้ | AB2: อีเมล | AC2: หมายเหตุเพิ่มเติมโปรดระบุ
D3: 20 Digit | G3: 100 Digit | H3: 100 Digit | I3: 100 Digit | J3: 50 Digit | K3: 100 Digit | L3: 100 Digit | M3: 100 Digit | N3: 100 Digit | O3: 50 Digit | X3: 100 Digit | Y3: 30 Digit | Z3: 30 Digit | AA3: 30 Digit | AB3: 100 Digit
A4: No. | B4: Company | C4: Request for | D4: Vendor No. | E4: Employee ID | F4: Employee’s Company Name | G4: Name | H4: Branch No. | I4: Address | J4: Address 2 | K4: City | L4: County | M4: Post Code | N4: Country/Region Code | O4: VAT Registration No. | P4: Gen. Bus. Posting Group | Q4: VAT Bus. Posting Group | R4: Vendor Posting Group | S4: Payment Terms Code | T4: Payment Method Code | U4: (TH)Company Branch No. | V4: (TH)WHT Business Posting Group | W4: Currency Code | X4: Contact | Y4: Phone No. | Z4: Mobile Phone No. | AA4: Fax No. | AB4: Email | AC4: หมายเหตุ
A5: 1 | B5: S040 : SCS | C5: Create | D5: 10000001 | G5: บริษัท บีทีเอส กรุ๊ป โฮลดิ้งส์ จำกัด (มหาชน) | H5: 00000 | I5: 1000/9 อาคารบีทีเอส วิชันนารี ปาร์ค - เซาธ์ ทาวเวอร์ ชั้นที่ 33 ถนนพหลโยธิน | J5: แขวงจอมพล | K5: เขตจตุจักร | L5: กรุงเทพมหานคร | M5: 10900 | N5: TH | O5: 0107536000421 | P5: DOMESTIC-RPT : สำหรับรายการซื้อ – ขายระหว่างกันในประเทศ | Q5: 00000–DOMESTIC : สำนักงานใหญ่ ซื้อ - ขายในประเทศ | R5: V-TRADE-RPT : กลุ่มเจ้าหนี้ประเภทเทรดดิ้งบริษัทในเครือ | S5: 30D | T5: CHEQUE | U5: 00000 | V5: WHT53 | X5: คุณหนึ่ง | Y5: 02-123-4561 | Z5: 081-234-5678 | AA5: 02-123-4567 | AB5: abcd1@gmail.com
A6: 2 | B6: R020 : KIN1 | C6: Create | D6: 10003661 | G6: บริษัท ไพบูลย์ธุรกิจ จำกัด | H6: 00000 | I6: เลขที่ 46 ถนนสาทรเหนือ | J6: แขวงสีลม | K6: เขตบางรัก | L6: กรุงเทพมหานคร | M6: 10500 | N6: TH | O6: 0105516000555 | P6: DOMESTIC : สำหรับรายการซื้อ – ขายในประเทศ | Q6: 00000–DOMESTIC : สำนักงานใหญ่ ซื้อ - ขายในประเทศ | R6: V-OTHER-UN : กลุ่มเจ้าหนี้ประเภทอื่นๆ ที่ไม่เกี่ยวข้อง | S6: 15D | T6: CASH | U6: 00001 | V6: WHT53 | X6: คุณสอง | Y6: 02-123-4562 | Z6: 082-234-5678 | AA6: 02-223-4567 | AB6: abcd2@gmail.com
A7: 3 | B7: R010 : Alpea | C7: Create | D7: 10012116 | G7: BEERTINI COMPANY LIMITED | H7: 00000 | I7: 522/147 Asok-Din Daeng Road, | J7: Din Daeng, | K7: Din Daeng, | L7: Bangkok | M7: 10400 | N7: TH | O7: 0105560122954 | P7: DOMESTIC : สำหรับรายการซื้อ – ขายในประเทศ | Q7: 00000–DOMESTIC : สำนักงานใหญ่ ซื้อ - ขายในประเทศ | R7: V-TRADE-UN : กลุ่มเจ้าหนี้ประเภทเทรดดิ้งที่ไม่เกี่ยวข้อง | S7: 30D | T7: CHEQUE | U7: 00000 | V7: WHT53 | X7: คุณสาม | Y7: 02-123-4563 | Z7: 083-234-5678 | AA7: 02-323-4567 | AB7: abcd3@gmail.com
A8: 4 | B8: R030 : RCS | C8: Create | D8: ER01LP0013 | E8: LP00134567 | F8: ALPEA COMPANY LIMITED | G8: นายนัฐณรงค์ ทองแท้ | H8: 00000 | I8: 66/220 หมู่บ้านพฤกษา 76 ซอย 12 หมู่ 12 | J8: ตำบลบางแม่นาง | K8: อำเภอบางใหญ่ | L8: จังหวัดนนทบุรี | M8: 11140 | N8: TH | O8: 3120200557061 | P8: DOMESTIC : สำหรับรายการซื้อ – ขายในประเทศ | Q8: 00000–DOMESTIC : สำนักงานใหญ่ ซื้อ - ขายในประเทศ | R8: V-OTHER-UN : กลุ่มเจ้าหนี้ประเภทอื่นๆ ที่ไม่เกี่ยวข้อง | S8: 45D | T8: TRANSFER | U8: 00000 | V8: WHT3 | X8: คุณสี่ | Y8: 02-123-4564 | Z8: 084-234-5678 | AA8: 02-423-4567 | AB8: abcd4@gmail.com
A9: 5 | B9: S020 : BGSR81 | C9: Create | D9: 10008066-850 | G9: บริษัท ซี.เจ. เอ็กซ์เพรส กรุ๊ป จำกัด | H9: 00850 | I9: 393 อาคาร393 สีลม ชั้น 2,4 และ 5 ถนนสีลม | J9: แขวงสีลม | K9: เขตบางรัก | L9: กรุงเทพมหานคร | M9: 10500 | N9: TH | O9: 0105556055491 | P9: DOMESTIC : สำหรับรายการซื้อ – ขายในประเทศ | Q9: 00000–DOMESTIC : สำนักงานใหญ่ ซื้อ - ขายในประเทศ | R9: V-OTHER-UN : กลุ่มเจ้าหนี้ประเภทอื่นๆ ที่ไม่เกี่ยวข้อง | S9: 30D | T9: CHEQUE | U9: 00000 | V9: WHT53 | X9: คุณห้า | Y9: 02-123-4565 | Z9: 085-234-5678 | AA9: 02-523-4567 | AB9: abcd5@gmail.com
A10: *ห้ามทำการลบบรรทัดด้านบน และด้านล่าง เด็ดขาด เนื่องจากมีการผูกสูตรไว้ | J10: *(TH) โปรดระบุคำว่า "แขวง" หรือ "ตำบล" นำหน้าชื่อพื้นที่ตามที่อยู่ | K10: *(TH) โปรดระบุคำว่า "เขต" หรือ "อำเภอ" นำหน้าชื่อพื้นที่ตามที่อยู่
A11: หากทำรายการเกิน 5 รายการ โปรดเริ่มรายการที่ 6 ในไฟล์ใหม่ | J11: *(EN) โปรดระบุชื่อแขวง/ตำบล เป็นภาษาอังกฤษ หรือทับศัพท์ โดยไม่ต้องใส่คำว่า "Khwaeng", "Tambon" หรือ "Subdistrict" | K11: *(EN) โปรดระบุชื่อเขต/อำเภอ เป็นภาษาอังกฤษ หรือทับศัพท์ โดยไม่ต้องใส่คำว่า "Khet", "Amphoe" หรือ "District"
A14: Requested by | B14: Wansinee Suphunarat
A15: Requested Date | B15: 46314
A16: Department | B16: Finance
A17: Position | B17: Business Analyst
A18: Email | B18: wansinee.s@btsgroup.co.th
A19: Reason for request | B19: Create New Vendor | E19: * กรณีที่มีการเปลี่ยนชื่อ และที่อยู่ รบกวนแจ้งวันที่มีผลบังคับใช้
A20: Approved by | B20: Rattaneeporn Chaichompu
A21: Approved Date | B21: 46314
A22: Entered by | B22: Piyawan Ngaesanthia | E22: *สำหรับ BA กรอกข้อมูล
A23: Entered Date | B23: 46314 | E23: *สำหรับ BA กรอกข้อมูล

Sheet 1.Vendor Request Form (for SAP)
A1: Business Partner Maintenance Request Form | AG1: No.
A2: For Requester
B4: Requester Name* | H4: =Vendor!B14 -> 0 | V4: Request Date* | AA4: =Vendor!B15 -> 0
B6: Department* | H6: =Vendor!B16 -> 0 | V6: Position* | AA6: =Vendor!B17 -> 0
B8: Email | H8: =Vendor!B18 -> 0 | V8: Contact No.
A10: Initial Data
B12: Business Partner Code | I12: =Vendor!D5 -> 0 | V12: Branch Code | Z12: =Vendor!H5 -> 0
B14: AYUDA Code | U14: *Only Media VGI's Customer Only
B15: Company Code* | I15: =Vendor!B5 -> 0
B17: Request for* | I17: =Vendor!C5 -> 0
B19: Reason for request* | I19: =Vendor!B19 -> 0
A22: General
B24: BP Grouping* | I24: Z001 Business Partner - Domestic | X24: * For BA entry
B26: BP Type* | I26: Z101 Private & State Enterprise | S26: * For BA entry
B28: EN Language
B30: Business Partner Name* | I30: =Vendor!G5 -> 0
B34: Search Term1 (Tax ID)* | I34: =Vendor!O5 -> 0 | V34: Search Term2
B36: Address* | I36: =Vendor!I5&" "&Vendor!J5&" "&Vendor!K5
B40: City* | I40: =Vendor!L5 -> 0
B42: Comment (Salesperson Position) | AB42: * For VGI's Sales Employee Only
B44: TH Language
B46: Business Partner Name* | I46: =I30 -> 0 | AQ46: Dynamics 365 BC ใช้ชื่อที่อยู่ภาษาไทยเท่านั้น ยกเว้นอัลเปียร์ (Alpea)
B50: Search Term1 (Tax ID)* | I50: =I34 -> 0 | V50: Search Term2
B52: Address* | I52: =I36
B56: City* | I56: =I40 -> 0 | AB56: =AB40 -> 0
B58: Comment (Salesperson Position) | AB58: * For VGI's Sales Employee Only
B60: Postal Code* | I60: =Vendor!M5 -> 0 | V60: Country* | Z60: TH Thailand | AN60: * For BA entry
B62: Telephone No. | I62: =Vendor!Y5 -> 0 | V62: Extend No.
B64: Mobile No. | I64: =Vendor!Z5 -> 0
B66: Fax No. | I66: =Vendor!AA5 -> 0 | V66: Extend No.
B68: E-Mail | I68: =Vendor!AB5 -> 0
B70: Trading Partner
B72: Tax Number 3 (Tax ID) | I72: =I34 -> 0 | AC72: Natural Person | AG72: * For BA entry
A77: Bank Details (For Supplier Bank Transfer)
B79: Bank Country
B81: Bank partner type | M81: ( Start : 0001-9999)
B83: Bank Key
B85: Bank Account
B87: Account Name
A90: For Accounting (AR)
...

Sheet 2.Vendor Request Form (for SAP)
A1: Business Partner Maintenance Request Form | AG1: No.
A2: For Requester
B4: Requester Name* | H4: =Vendor!B14 -> 0 | V4: Request Date* | AA4: =Vendor!B15 -> 0
B6: Department* | H6: =Vendor!B16 -> 0 | V6: Position* | AA6: =Vendor!B17 -> 0
B8: Email | H8: =Vendor!B18 -> 0 | V8: Contact No.
A10: Initial Data
B12: Business Partner Code | I12: =Vendor!D6 -> 0 | V12: Branch Code | Z12: =Vendor!H6 -> 0
B14: AYUDA Code | U14: *Only Media VGI's Customer Only
B15: Company Code* | I15: =Vendor!B6 -> 0
B17: Request for* | I17: =Vendor!C6 -> 0
B19: Reason for request* | I19: =Vendor!B19 -> 0
A22: General
B24: BP Grouping* | I24: Z001 Business Partner - Domestic | X24: * For BA entry
B26: BP Type* | I26: Z101 Private & State Enterprise | S26: * For BA entry
B28: EN Language
B30: Business Partner Name* | I30: =Vendor!G6 -> 0
B34: Search Term1 (Tax ID)* | I34: =Vendor!O6 -> 0 | V34: Search Term2
B36: Address* | I36: =Vendor!I6&" "&Vendor!J6&" "&Vendor!K6
B40: City* | I40: =Vendor!L6 -> 0
B42: Comment (Salesperson Position) | AB42: * For VGI's Sales Employee Only
B44: TH Language
B46: Business Partner Name* | I46: =I30 -> 0 | AQ46: Dynamics 365 BC ใช้ชื่อที่อยู่ภาษาไทยเท่านั้น ยกเว้นอัลเปียร์ (Alpea)
B50: Search Term1 (Tax ID)* | I50: =I34 -> 0 | V50: Search Term2
B52: Address* | I52: =I36
B56: City* | I56: =I40 -> 0 | AB56: =AB40 -> 0
B58: Comment (Salesperson Position) | AB58: * For VGI's Sales Employee Only
B60: Postal Code* | I60: =Vendor!M6 -> 0 | V60: Country* | Z60: TH Thailand | AN60: * For BA entry
B62: Telephone No. | I62: =Vendor!Y6 -> 0 | V62: Extend No.
B64: Mobile No. | I64: =Vendor!Z6 -> 0
B66: Fax No. | I66: =Vendor!AA6 -> 0 | V66: Extend No.
B68: E-Mail | I68: =Vendor!AB6 -> 0
B70: Trading Partner
B72: Tax Number 3 (Tax ID) | I72: =I34 -> 0 | AC72: Natural Person | AG72: * For BA entry
A77: Bank Details (For Supplier Bank Transfer)
B79: Bank Country
B81: Bank partner type | M81: ( Start : 0001-9999)
B83: Bank Key
B85: Bank Account
B87: Account Name
A90: For Accounting (AR)
...

Sheet 3.Vendor Request Form (for SAP)
A1: Business Partner Maintenance Request Form | AG1: No.
A2: For Requester
B4: Requester Name* | H4: =Vendor!B14 -> 0 | V4: Request Date* | AA4: =Vendor!B15 -> 0
B6: Department* | H6: =Vendor!B16 -> 0 | V6: Position* | AA6: =Vendor!B17 -> 0
B8: Email | H8: =Vendor!B18 -> 0 | V8: Contact No.
A10: Initial Data
B12: Business Partner Code | I12: =Vendor!D7 -> 0 | V12: Branch Code | Z12: =Vendor!H7 -> 0
B14: AYUDA Code | U14: *Only Media VGI's Customer Only
B15: Company Code* | I15: =Vendor!B7 -> 0
B17: Request for* | I17: =Vendor!C7 -> 0
B19: Reason for request* | I19: =Vendor!B19 -> 0
A22: General
B24: BP Grouping* | I24: Z001 Business Partner - Domestic | X24: * For BA entry
B26: BP Type* | I26: Z101 Private & State Enterprise | S26: * For BA entry
B28: EN Language
B30: Business Partner Name* | I30: =Vendor!G7 -> 0
B34: Search Term1 (Tax ID)* | I34: =Vendor!O7 -> 0 | V34: Search Term2
B36: Address* | I36: =Vendor!I7&" "&Vendor!J7&" "&Vendor!K7
B40: City* | I40: =Vendor!L7 -> 0
B42: Comment (Salesperson Position) | AB42: * For VGI's Sales Employee Only
B44: TH Language
B46: Business Partner Name* | I46: =I30 -> 0 | AQ46: Dynamics 365 BC ใช้ชื่อที่อยู่ภาษาไทยเท่านั้น ยกเว้นอัลเปียร์ (Alpea)
B50: Search Term1 (Tax ID)* | I50: =I34 -> 0 | V50: Search Term2
B52: Address* | I52: =I36
B56: City* | I56: =I40 -> 0 | AB56: =AB40 -> 0
B58: Comment (Salesperson Position) | AB58: * For VGI's Sales Employee Only
B60: Postal Code* | I60: =Vendor!M7 -> 0 | V60: Country* | Z60: TH Thailand | AN60: * For BA entry
B62: Telephone No. | I62: =Vendor!Y7 -> 0 | V62: Extend No.
B64: Mobile No. | I64: =Vendor!Z7 -> 0
B66: Fax No. | I66: =Vendor!AA7 -> 0 | V66: Extend No.
B68: E-Mail | I68: =Vendor!AB7 -> 0
B70: Trading Partner
B72: Tax Number 3 (Tax ID) | I72: =I34 -> 0 | AC72: Natural Person | AG72: * For BA entry
A77: Bank Details (For Supplier Bank Transfer)
B79: Bank Country
B81: Bank partner type | M81: ( Start : 0001-9999)
B83: Bank Key
B85: Bank Account
B87: Account Name
A90: For Accounting (AR)
...

Sheet 4.Vendor Request Form (for SAP)
A1: Business Partner Maintenance Request Form | AG1: No.
A2: For Requester
B4: Requester Name* | H4: =Vendor!B14 -> 0 | V4: Request Date* | AA4: =Vendor!B15 -> 0
B6: Department* | H6: =Vendor!B16 -> 0 | V6: Position* | AA6: =Vendor!B17 -> 0
B8: Email | H8: =Vendor!B18 -> 0 | V8: Contact No.
A10: Initial Data
B12: Business Partner Code | I12: =Vendor!D8 -> 0 | V12: Branch Code | Z12: =Vendor!H8 -> 0
B14: AYUDA Code | U14: *Only Media VGI's Customer Only
B15: Company Code* | I15: =Vendor!B8 -> 0
B17: Request for* | I17: =Vendor!C8 -> 0
B19: Reason for request* | I19: =Vendor!B19 -> 0
A22: General
B24: BP Grouping* | I24: Z001 Business Partner - Domestic | X24: * For BA entry
B26: BP Type* | I26: Z101 Private & State Enterprise | S26: * For BA entry
B28: EN Language
B30: Business Partner Name* | I30: =Vendor!G8 -> 0
B34: Search Term1 (Tax ID)* | I34: =Vendor!O8 -> 0 | V34: Search Term2
B36: Address* | I36: =Vendor!I8&" "&Vendor!J8&" "&Vendor!K8
B40: City* | I40: =Vendor!L8 -> 0
B42: Comment (Salesperson Position) | AB42: * For VGI's Sales Employee Only
B44: TH Language
B46: Business Partner Name* | I46: =I30 -> 0 | AQ46: Dynamics 365 BC ใช้ชื่อที่อยู่ภาษาไทยเท่านั้น ยกเว้นอัลเปียร์ (Alpea)
B50: Search Term1 (Tax ID)* | I50: =I34 -> 0 | V50: Search Term2
B52: Address* | I52: =I36
B56: City* | I56: =I40 -> 0 | AB56: =AB40 -> 0
B58: Comment (Salesperson Position) | AB58: * For VGI's Sales Employee Only
B60: Postal Code* | I60: =Vendor!M8 -> 0 | V60: Country* | Z60: TH Thailand | AN60: * For BA entry
B62: Telephone No. | I62: =Vendor!Y8 -> 0 | V62: Extend No.
B64: Mobile No. | I64: =Vendor!Z8 -> 0
B66: Fax No. | I66: =Vendor!AA8 -> 0 | V66: Extend No.
B68: E-Mail | I68: =Vendor!AB8 -> 0
B70: Trading Partner
B72: Tax Number 3 (Tax ID) | I72: =I34 -> 0 | AC72: Natural Person | AG72: * For BA entry
A77: Bank Details (For Supplier Bank Transfer)
B79: Bank Country
B81: Bank partner type | M81: ( Start : 0001-9999)
B83: Bank Key
B85: Bank Account
B87: Account Name
A90: For Accounting (AR)
...

Sheet 5.Vendor Request Form (for SAP)
A1: Business Partner Maintenance Request Form | AG1: No.
A2: For Requester
B4: Requester Name* | H4: =Vendor!B14 -> 0 | V4: Request Date* | AA4: =Vendor!B15 -> 0
B6: Department* | H6: =Vendor!B16 -> 0 | V6: Position* | AA6: =Vendor!B17 -> 0
B8: Email | H8: =Vendor!B18 -> 0 | V8: Contact No.
A10: Initial Data
B12: Business Partner Code | I12: =Vendor!D9 -> 0 | V12: Branch Code | Z12: =Vendor!H9 -> 0
B14: AYUDA Code | U14: *Only Media VGI's Customer Only
B15: Company Code* | I15: =Vendor!B9 -> 0
B17: Request for* | I17: =Vendor!C8 -> 0
B19: Reason for request* | I19: =Vendor!B19 -> 0
A22: General
B24: BP Grouping* | I24: Z001 Business Partner - Domestic | X24: * For BA entry
B26: BP Type* | I26: Z101 Private & State Enterprise | S26: * For BA entry
B28: EN Language
B30: Business Partner Name* | I30: =Vendor!G9 -> 0
B34: Search Term1 (Tax ID)* | I34: =Vendor!O9 -> 0 | V34: Search Term2
B36: Address* | I36: =Vendor!I9&" "&Vendor!J9&" "&Vendor!K9
B40: City* | I40: =Vendor!L9 -> 0
B42: Comment (Salesperson Position) | AB42: * For VGI's Sales Employee Only
B44: TH Language
B46: Business Partner Name* | I46: =I30 -> 0 | AQ46: Dynamics 365 BC ใช้ชื่อที่อยู่ภาษาไทยเท่านั้น ยกเว้นอัลเปียร์ (Alpea)
B50: Search Term1 (Tax ID)* | I50: =I34 -> 0 | V50: Search Term2
B52: Address* | I52: =I36
B56: City* | I56: =I40 -> 0 | AB56: =AB40 -> 0
B58: Comment (Salesperson Position) | AB58: * For VGI's Sales Employee Only
B60: Postal Code* | I60: =Vendor!M9 -> 0 | V60: Country* | Z60: TH Thailand | AN60: * For BA entry
B62: Telephone No. | I62: =Vendor!Y9 -> 0 | V62: Extend No.
B64: Mobile No. | I64: =Vendor!Z9 -> 0
B66: Fax No. | I66: =Vendor!AA9 -> 0 | V66: Extend No.
B68: E-Mail | I68: =Vendor!AB9 -> 0
B70: Trading Partner
B72: Tax Number 3 (Tax ID) | I72: =I34 -> 0 | AC72: Natural Person | AG72: * For BA entry
A77: Bank Details (For Supplier Bank Transfer)
B79: Bank Country
B81: Bank partner type | M81: ( Start : 0001-9999)
B83: Bank Key
B85: Bank Account
B87: Account Name
A90: For Accounting (AR)
...

Sheet Country
A1: Country | B1: Name | C1: Country + Name
A3: AD | B3: Andorra | C3: =CONCATENATE(A:A, " ",B:B) -> AD Andorra
A4: AE | B4: United Arab Emirates | C4: =CONCATENATE(A:A, " ",B:B) -> AE United Arab Emirates
A5: AF | B5: Afghanistan | C5: =CONCATENATE(A:A, " ",B:B) -> AF Afghanistan
A6: AG | B6: Antigua and Barbuda | C6: =CONCATENATE(A:A, " ",B:B) -> AG Antigua and Barbuda
A7: AI | B7: Anguilla | C7: =CONCATENATE(A:A, " ",B:B) -> AI Anguilla
A8: AL | B8: Albania | C8: =CONCATENATE(A:A, " ",B:B) -> AL Albania
A9: AM | B9: Armenia | C9: =CONCATENATE(A:A, " ",B:B) -> AM Armenia
A10: AO | B10: Angola | C10: =CONCATENATE(A:A, " ",B:B) -> AO Angola
A11: AQ | B11: Antarctica | C11: =CONCATENATE(A:A, " ",B:B) -> AQ Antarctica
A12: AR | B12: Argentina | C12: =CONCATENATE(A:A, " ",B:B) -> AR Argentina
A13: AS | B13: American Samoa | C13: =CONCATENATE(A:A, " ",B:B) -> AS American Samoa
A14: AT | B14: Austria | C14: =CONCATENATE(A:A, " ",B:B) -> AT Austria
... A255: ZW | B255: Zimbabwe | C255: =CONCATENATE(A:A, " ",B:B) -> ZW Zimbabwe
